BEGIN:VCALENDAR
VERSION:2.0
PRODID:-//AMOC* - ECPv6.15.20//NONSGML v1.0//EN
CALSCALE:GREGORIAN
METHOD:PUBLISH
X-ORIGINAL-URL:https://runningamoc.org
X-WR-CALDESC:Events for AMOC*
REFRESH-INTERVAL;VALUE=DURATION:PT1H
X-Robots-Tag:noindex
X-PUBLISHED-TTL:PT1H
BEGIN:VTIMEZONE
TZID:UTC
BEGIN:STANDARD
TZOFFSETFROM:+0000
TZOFFSETTO:+0000
TZNAME:UTC
DTSTART:20230101T000000
END:STANDARD
END:VTIMEZONE
BEGIN:VEVENT
DTSTART;TZID=UTC:20240420T200000
DTEND;TZID=UTC:20240420T210000
DTSTAMP:20260426T011825
CREATED:20240109T200042Z
LAST-MODIFIED:20240327T211739Z
UID:10000048-1713643200-1713646800@runningamoc.org
SUMMARY:MUSIC FOR NEW BODIES
DESCRIPTION:DACAMERA and The Shepherd School of Music at Rice University present\nMatthew Aucoin and Peter Sellars: Music for New Bodies\nWorld Premiere | Concert Performance\nCo-commission of DACAMERA\, the Shepherd School of Music at Rice University\, AMOC* (American Modern Opera Company)\, Aspen Music Festival and School\, and LA Opera \nTexts by JORIE GRAHAM \nLibretto assembled by  MATTHEW AUCOIN and PETER SELLARS \nMATTHEW AUCOIN\, composer and conductor\nPETER SELLARS*\, director \nKATHRYN LEWEK*\, soprano\nMERYL DOMINGUEZ*\, soprano\nRACHAEL WILSON*\, mezzo-soprano\nBRENTON RYAN*\, tenor\nCORY MCGEE*\, bass-baritone \n*denotes guest artist \nInstrumental ensemble of Shepherd School of Music students and DACAMERA Young Artists \nA major new work and first collaboration between AMOC* member and co-founder composer Matthew Aucoin and director Peter Sellars. A musical premiere is brought to life by five vocal soloists and an 18-instrument ensemble conducted by Matthew Aucoin. \nMusic for New Bodies is inspired by the visionary poetry of Jorie Graham\, addressing some of the most urgent questions of our time: In our quest for immortality\, what have human beings done to the planet\, and what are we doing to ourselves? What are these post-human\, machine-generated intelligences that we so heedlessly continue to create\, and which seem almost capable of replacing us? Music for New Bodies is a 360-degree portrait of the moment we are living in\, a piece that brings together questions of environmental responsibility\, scientific progress and the ethics of humanity’s questionable quest to surpass the human. \nBuy Tickets
URL:https://runningamoc.org/event/music-for-new-bodies/
LOCATION:Brockman Hall for Opera\, Rice University\, 6100 Main St.\, Houston\, TX\, 77005
ATTACH;FMTTYPE=image/png:https://runningamoc.org/wp-content/uploads/2024/01/Matt-and-Peter.png
END:VEVENT
END:VCALENDAR